Workbook
Name __xlfn_IFERROR: #N/A
Name __xlfn_SUMIFS: #N/A
Name ANOCG: '[1]DADOS (OCULTAR)'!$AA$4:$AA$15
Name ATIVOSouJOVEM: '[1]DADOS (OCULTAR)'!$Y$4:$Y$5
Name CATDESP6: '[1]DADOS (OCULTAR)'!$B$3:$B$180
Name CLASSIF: '[1]DADOS (OCULTAR)'!#REF!
Name Classificação: '[1]DADOS (OCULTAR)'!$F$4:$F$5
Name COMPET: '[1]DADOS (OCULTAR)'!$D$4:$D$75
Name DIVISÃO: '[1]DADOS (OCULTAR)'!$U$3:$U$4
Name Excel_BuiltIn__FilterDatabase: 'CONTÁBIL- FINANCEIRA '!$B$28:$G$276
Name Excel_BuiltIn_Print_Area_8: #REF!
Name Excel_BuiltIn_Print_Area_8: #REF!
Name Excel_BuiltIn_Print_Area_9: #REF!
Name Excel_BuiltIn_Print_Area_9: #REF!
Name MESES: '[1]DADOS (OCULTAR)'!$Z$4:$Z$15
Name NÃO: 'CONTÁBIL- FINANCEIRA '!$G$6
Name Print_Area_0: 'CONTÁBIL- FINANCEIRA '!$C$1:$G$287
Name Print_Area_0_0: 'CONTÁBIL- FINANCEIRA '!$C$1:$G$287
Name Print_Area_0_0_0: 'CONTÁBIL- FINANCEIRA '!$C$1:$G$287
Name Print_Area_0_0_0_0: 'CONTÁBIL- FINANCEIRA '!$C$1:$G$287
Name Print_Area_0_0_0_0_0: 'CONTÁBIL- FINANCEIRA '!$C$1:$G$287
Name RELDESPPG: '[1]DADOS (OCULTAR)'!$AK$3:$AK$191
Name UNIDADES: '[1]DADOS (OCULTAR)'!$P$3:$P$54
Name UNIDADES_OSS: '[1]DADOS (OCULTAR)'!$P$3:$P$64

Sheet CONTÁBIL- FINANCEIRA 
D1: SECRETARIA EXECUTIVA DE ATENÇÃO À SAÚDE | F1: Janeiro/2020 - Versão 4.0
D2: DIRETORIA GERAL DE MODERNIZAÇÃO E MONITORAMENTO DA ASSISTÊNCIA À SAÚDE | F2: MÊS/ANO COMPETÊNCIA | G2: ANO CONTRATO
D3: SECRETARIA DE ADMINISTRAÇÃO E FINANÇAS
D4: GERÊNCIA GERAL DE ADMINISTRAÇÃO, FINANÇAS, CONVÊNIOS E CONTRATOS | F4: SETEMBRO 2020 | G4: 1
D5: DEMONSTRATIVO DE CONTRATOS SERVIÇOS TERCEIRIZADOS
C6: UNIDADE (acessar lista suspensa) | E6: RESPONSÁVEL PELA UNIDADE | F6: ISENTO PIS: | G6: SIM
C7: HOSPITAL EDUARDO CAMPOS | E7: ROBERTA MONTEIRO | F7: CNPJ | G7: =IFERROR(VLOOKUP($C$7,'[1]DADOS (OCULTAR)'!$P$3:$R$54,3,0),"") -> 9039744000194
C8: =IFERROR(VLOOKUP($C$7,'[1]DADOS (OCULTAR)'!$P$3:$R$54,2,0),"") -> IMIP HOSPITALAR - FUNDAÇÃO PROF. MARTINIANO FERNANDES | D8: =IFERROR(VLOOKUP($C$7,'[1]DADOS (OCULTAR)'!$P$3:$R$53,3,0),"") | E8: =IFERROR(VLOOKUP($C$7,'[1]DADOS (OCULTAR)'!$P$3:$R$53,3,0),"") | F8: OSS - GESTORA
C9: DESCRIÇÃO | F9: Data Início CG | G9: =IFERROR(VLOOKUP(C7,'[1]DADOS (OCULTAR)'!P3:S53,4,0),"")
C10: RECEITAS OPERACIONAIS | F10: VALOR
C11: Repasse Contrato de Gestão (Fixo+Variável) | F11: 3487022.8
C12: Repasse Contrato de Gestão (Odontologia) | F12: 0
C13: Repasse Contrato de Gestão ENSINO E PESQUISA | F13: 0
C14: Plano de Investimento Autorizado pela SES | F14: 0
C15: Repasse Programas Especiais | F15: 0
C16: ( - ) Desconto | F16: 0
C17: TOTAL DE REPASSES | F17: =SUM(F11:G15)-F16 -> 3487022.8
C18: Rendimento de Aplicações Financeiras | F18: 260.44
C19: Rendimento de Aplicações Financeiras do Recurso de Plano de Investimento Autorizado pela SES | F19: 0
C20: Reembolso de Despesas | F20: 0
C21: Obtenção de Recursos Externos a SES | F21: 0
C22: Demais Receitas (Convênios) | F22: 0
C23: Outras Receitas | F23: =SUM('[1]TCE - ANEXO VI - DR - Enviar'!G4:G11)-F18 -> 0
C24: TOTAL OUTRAS RECEITAS | F24: =SUM(F18:G23) -> 260.44
C25: TOTAL DE REPASSES/RECEITAS | F25: =F24+F17 -> 3487283.3
C27: DESPESAS OPERACIONAIS | F27: VALOR
C28: 1. Pessoal | F28: =F29+SUM(F35:F38) -> 26579.902
C29: 1.1. Ordenados (Não inclui férias, 13º e Rescisão) | F29: =F30+F33+F34 -> 24611.02
C30: 1.1.1. Assistência Médica | F30: =F31+F32 -> 12317.6
A31: 1 - Médico | B31: 1.1 | C31: 1.1.1.1. Médicos | F31: ='[1]TCE - ANEXO II - Preencher'!X1 -> 3128.66
A32: 2 - Outros Profissionais da Saúde | B32: 1.1 | C32: 1.1.1.2. Outros profissionais de saúde | F32: ='[1]TCE - ANEXO II - Preencher'!X2 -> 9188.94
A33: 4 - Assistência Odontológica | B33: 1.1 | C33: 1.1.2. Assistência Odontológica | F33: ='[1]TCE - ANEXO II - Preencher'!X4 -> 0
A34: 3 - Administrativo | B34: 1.1 | C34: 1.1.3. Administrativo | F34: ='[1]TCE - ANEXO II - Preencher'!X3 -> 12293.42
A35: 2 - FGTS | B35: 1.2 | C35: 1.2. FGTS | F35: ='[1]MEM.CÁLC.FP.'!$D$92 -> 1968.8816
A36: 1 - PIS | B36: 1.2 | C36: 1.3. PIS | F36: =IF(G6="SIM","",'[1]MEM.CÁLC.FP.'!$D$93)
A37: 1.99 - Outras Depesas com Pessoal | B37: 1.99 | C37: 1.4. Benefícios | F37: ='[1]MEM.CÁLC.FP.'!$C$96 -> 0
C38: 1.5. Despesas com Provisões (Férias + 13º + Rescisões) | F38: =F39+F43+F47 -> 0
C39: 1.5.1. Total Férias | F39: =SUM(F40:G42) -> 0
C40: 1.5.1.2. Proventos Férias | F40: =SUM('[1]MEM.CÁLC.FP.'!D6:D7) -> 0
A41: 2 - FGTS | B41: 1.2 | C41: 1.5.1.2. FGTS s/ Férias | F41: =SUM('[1]MEM.CÁLC.FP.'!F6:F7) -> 0
...
